BEGIN:VCALENDAR
VERSION:2.0
PRODID:-//Library Market//iCal Export//EN
BEGIN:VEVENT
SUMMARY:Dream Journeys: The Concorde, Queen Mary, and Orient Express (Zoom
 )
UID:7357
DTSTAMP:20260421T165900Z
DTSTART:20260506T223000Z
DTEND:20260506T233000Z
LOCATION:
DESCRIPTION:Some names in travel are more than just modes of transportatio
 n – they end up becoming legends.This talk explores how three extraordin
 ary vehicles – The Orient Express, RMS Queen Mary, and Concorde – rose
  to become enduring symbols of innovation and adventure, as well as redefi
 ning what it meant to journey in style.​ Through a closer look at their
  groundbreaking design and technology, the imagination that shaped their c
 reation, and the passengers and crew who brought them to life, we’ll tra
 vel back in time to discover how these iconic experiences transformed the 
 way the world moves and how they continue to inspire us today.Presented by
  Lucy Jane Santos.Hosted on Zoom. Free and open to all. Register HERE.
URL:https://warnerlib.librarycalendar.com/event/dream-journeys-zoom-7357
END:VEVENT
END:VCALENDAR
