BEGIN:VCALENDAR
VERSION:2.0
PRODID:-//Library Market//iCal Export//EN
BEGIN:VEVENT
SUMMARY:Lost in New York (Zoom)
UID:7867
DTSTAMP:20260419T153800Z
DTSTART:20260522T170000Z
DTEND:20260522T180000Z
LOCATION:
DESCRIPTION:Behold a bygone New York! Explore the landmarks, vistas, past
 imes, environments, monuments, communities, and modes of transportation th
 at once defined this city. &quot;Losses&quot; include river swimming, high
 -wheel bike riding, elevated railways, the original Penn Station, the old 
 Croton Reservoir, the Chinese Theater, Seneca Village, the Central Park Ho
 overville, the fake window decals of the 1980s, and Bowling Green&#039;s m
 onument to King George III.Presented by the New-York Historical Society.Ho
 sted on Zoom. Free &amp; open to all.This program is brought to you by Nor
 th Castle Public Library, John C. Hart Memorial Library, Warner Library, Y
 onkers Public Library &amp; Pound Ridge Library.
URL:https://warnerlib.librarycalendar.com/event/lost-new-york-zoom-7867
END:VEVENT
END:VCALENDAR
