BEGIN:VCALENDAR
VERSION:2.0
PRODID:-//Library Market//iCal Export//EN
BEGIN:VEVENT
SUMMARY:Art Reception - IAHD
UID:8089
DTSTAMP:20260421T164200Z
DTSTART:20260508T160000Z
DTEND:20260508T180000Z
LOCATION:Warner Library, 121 North Broadway, Tarrytown, NY 10591, United S
 tates
ROOM: Fitzgerald Art Gallery
DESCRIPTION:Friday, May 8 at 12pmThe art showcased in this exhibition is b
 y various talented artists from the IAHD arts program. This collection is 
 a captivating explosion of colors, intricate shapes, and dynamic forms tha
 t invite viewers to immerse themselves fully in the experience. Each piece
  evokes emotions and provokes thought, creating a dialogue between the art
 work and its audience.The exhibition not only highlights the exceptional c
 reativity of the artists but also reflects the rich cultural tapestry of t
 he community in which it is presented. The artwork invites viewers to part
 icipate in a meaningful engagement with its themes, employing a range of t
 echniques from bold strokes to intricate details. This diversity in style 
 enhances the overall exploration and understanding of the underlying conce
 pts.All are welcome to attend.
URL:https://warnerlib.librarycalendar.com/event/art-reception-iahd-8089
END:VEVENT
END:VCALENDAR
