BEGIN:VCALENDAR
VERSION:2.0
PRODID:-//Library Market//iCal Export//EN
BEGIN:VEVENT
SUMMARY:Facilities Committee Meeting
UID:8099
DTSTAMP:20260420T202600Z
DTSTART:20260429T170000Z
DTEND:20260429T180000Z
LOCATION:Warner Library, 121 North Broadway, Tarrytown, NY 10591, United S
 tates
ROOM: Room A
DESCRIPTION:
URL:https://warnerlib.librarycalendar.com/event/facilities-committee-meeti
 ng-8099
END:VEVENT
END:VCALENDAR
