BEGIN:VCALENDAR
VERSION:2.0
PRODID:-//Library Market//iCal Export//EN
BEGIN:VEVENT
SUMMARY:Policy Committee Meeting
UID:8100
DTSTAMP:20260423T080800Z
DTSTART:20260505T150000Z
DTEND:20260505T160000Z
LOCATION:Warner Library, 121 North Broadway, Tarrytown, NY 10591, United S
 tates
ROOM: Room B
DESCRIPTION:A meeting of the Warner Library&#039;s Policy Committee
URL:https://warnerlib.librarycalendar.com/event/policy-committee-meeting-8
 100
END:VEVENT
END:VCALENDAR
