BEGIN:VCALENDAR
VERSION:2.0
PRODID:-//Library Market//iCal Export//EN
BEGIN:VEVENT
SUMMARY:Baby Yoga
UID:8131
DTSTAMP:20260424T025400Z
DTSTART:20260721T150000Z
DTEND:20260721T160000Z
LOCATION:Warner Library, 121 North Broadway, Tarrytown, NY 10591, United S
 tates
ROOM: Children&#039;s Storyroom
DESCRIPTION:@ 11:00 am Connect &amp; Bond: with parents/caregivers while s
 haring books with baby.11:15am - 12:00pm Baby Yoga: led by Nicole Sidman, 
 founder of Anahata Yoga in collaboration with For the People and Kids Inc.
 For babies up to 12 months. Please be mindful of the age requirements as 
 set by the program leader. 
URL:https://warnerlib.librarycalendar.com/event/baby-yoga-8131
END:VEVENT
END:VCALENDAR
