BEGIN:VCALENDAR
VERSION:2.0
PRODID:-//Library Market//iCal Export//EN
BEGIN:VEVENT
SUMMARY:Sensory Discovery for Babies
UID:8132
DTSTAMP:20260424T025400Z
DTSTART:20260804T153000Z
DTEND:20260804T160000Z
LOCATION:Warner Library, 121 North Broadway, Tarrytown, NY 10591, United S
 tates
ROOM: Children&#039;s Storyroom
DESCRIPTION:
URL:https://warnerlib.librarycalendar.com/event/sensory-discovery-babies-8
 132
END:VEVENT
END:VCALENDAR
